BEGIN:VCALENDAR
VERSION:2.0
PRODID:-//Tukios.com/
BEGIN:VEVENT
UID:0bb88ef5-f128-4522-b2a4-370075e32df8@www.lagroneruidoso.com
DTSTAMP:20260423T005611Z
DTSTART:20260427T190000Z
DTEND:20260427T200000Z
SUMMARY:Celebration of Life
DESCRIPTION:
URL:https://www.lagroneruidoso.com/obituaries/deborah-torres
LOCATION: 341 Sudderth Dr  Ruidoso NM 88345
GEO:33.3224204;-105.6368081
END:VEVENT
END:VCALENDAR